BEGIN:VCALENDAR
VERSION:2.0
PRODID:-//ChamberMaster//Event Calendar 2.0//EN
METHOD:PUBLISH
X-PUBLISHED-TTL:P1H
REFRESH-INTERVAL:P1H
CALSCALE:GREGORIAN
BEGIN:VTIMEZONE
TZID:America/New_York
BEGIN:DAYLIGHT
RRULE:FREQ=YEARLY;BYMONTH=3;BYDAY=2SU
DTSTART:20070101T000000
TZOFFSETFROM:-0500
TZOFFSETTO:-0400
TZNAME:Eastern Daylight Time
END:DAYLIGHT
BEGIN:STANDARD
RRULE:FREQ=YEARLY;BYMONTH=11;BYDAY=1SU
DTSTART:20070101T000000
TZOFFSETFROM:-0400
TZOFFSETTO:-0500
TZNAME:Eastern Standard Time
END:STANDARD
END:VTIMEZONE
BEGIN:VEVENT
DTSTART;TZID=America/New_York:20260425T090000
DTEND;TZID=America/New_York:20260425T120000
X-MICROSOFT-CDO-ALLDAYEVENT:FALSE
SUMMARY:American Beach Neighborhood Clean Up Day
DESCRIPTION:This is a wonderful time of year to come together and care for our neighborhood. Whether you'd like to lend a hand or simply relax and enjoy good conversation\, you're welcome to join us on the grounds of Franklintown Community Church. It's all about community\, connection\, and taking pride in where we live.
X-ALT-DESC;FMTTYPE=text/html:<!DOCTYPE html><html><head><title></title></head><body aria-disabled="false"><p>This is a wonderful time of year to come together and care for our neighborhood. Whether you&rsquo\;d like to lend a hand or simply relax and enjoy good conversation\, you&rsquo\;re welcome to join us on the grounds of Franklintown Community Church. It&rsquo\;s all about community\, connection\, and taking pride in where we live.</p></body></html>
LOCATION:1415 Lewis Street Fernandina Beach FL 32034
UID:e.3552.1448710
SEQUENCE:3
DTSTAMP:20260424T204240Z
URL:https://nassaucountychamberofcommerce.growthzoneapp.com/chambereventscalendar/Details/american-beach-neighborhood-clean-up-day-1715918?sourceTypeId=Hub
END:VEVENT
END:VCALENDAR
